BEGIN:VCALENDAR
VERSION:2.0
PRODID:-//DIGIFED - ECPv5.3.2.1//NONSGML v1.0//EN
CALSCALE:GREGORIAN
METHOD:PUBLISH
X-WR-CALNAME:DIGIFED
X-ORIGINAL-URL:https://digifed.org
X-WR-CALDESC:Events for DIGIFED
BEGIN:VTIMEZONE
TZID:UTC
BEGIN:STANDARD
TZOFFSETFROM:+0000
TZOFFSETTO:+0000
TZNAME:UTC
DTSTART:20210101T000000
END:STANDARD
END:VTIMEZONE
BEGIN:VEVENT
DTSTART;TZID=UTC:20210630T110000
DTEND;TZID=UTC:20210630T120000
DTSTAMP:20260422T101446
CREATED:20210624T154115Z
LAST-MODIFIED:20210624T154116Z
UID:2116-1625050800-1625054400@digifed.org
SUMMARY:ACCIONA and EDF HYDRO Digital Challenge Open Call Q&A session
DESCRIPTION:
URL:https://digifed.org/event/acciona-and-edf-hydro-digital-challenge-open-call-qa-session/
CATEGORIES:DigiFed event
END:VEVENT
END:VCALENDAR