BEGIN:VCALENDAR
VERSION:2.0
PRODID:-//DIGIFED - ECPv5.3.2.1//NONSGML v1.0//EN
CALSCALE:GREGORIAN
METHOD:PUBLISH
X-WR-CALNAME:DIGIFED
X-ORIGINAL-URL:https://digifed.org
X-WR-CALDESC:Events for DIGIFED
BEGIN:VTIMEZONE
TZID:UTC
BEGIN:STANDARD
TZOFFSETFROM:+0000
TZOFFSETTO:+0000
TZNAME:UTC
DTSTART:20200101T000000
END:STANDARD
END:VTIMEZONE
BEGIN:VEVENT
DTSTART;TZID=UTC:20200309T000000
DTEND;TZID=UTC:20200313T235959
DTSTAMP:20260420T163824
CREATED:20200312T145653Z
LAST-MODIFIED:20210521T141223Z
UID:479-1583712000-1584143999@digifed.org
SUMMARY:DATE 2020
DESCRIPTION:
URL:https://digifed.org/event/date-2020/
CATEGORIES:All,Partner event
END:VEVENT
END:VCALENDAR