BEGIN:VCALENDAR
VERSION:2.0
PRODID:-//DIGIFED - ECPv5.3.2.1//NONSGML v1.0//EN
CALSCALE:GREGORIAN
METHOD:PUBLISH
X-WR-CALNAME:DIGIFED
X-ORIGINAL-URL:https://digifed.org
X-WR-CALDESC:Events for DIGIFED
BEGIN:VTIMEZONE
TZID:UTC
BEGIN:STANDARD
TZOFFSETFROM:+0000
TZOFFSETTO:+0000
TZNAME:UTC
DTSTART:20210101T000000
END:STANDARD
END:VTIMEZONE
BEGIN:VEVENT
DTSTART;TZID=UTC:20210121T100000
DTEND;TZID=UTC:20210121T160000
DTSTAMP:20260423T101220
CREATED:20210114T182230Z
LAST-MODIFIED:20210521T123156Z
UID:1442-1611223200-1611244800@digifed.org
SUMMARY:FED4SAE Innovation day
DESCRIPTION:The 21st January\, FED4SAE Innovation Day is gathering a unique network of European Innovation Stakeholders to provide innovative companies with best access to technology\, business and access to funding. Get to know Innovation Funding partners at European level with: – Reverse pitching session – Networking – Technical workshops with FED4SAE industrial partners THALES & INTEL – Euripides/ Eureka co-creation workshop. Join us to benefit from the FED4SAE innovation ecosystem to identify new business & funding opportunities! \n\n\n\nFor more information\, see https://www.blumorpho.com/fed4sae-innovation-club-day.html \n\n\n\nYou can register at https://register.gotowebinar.com/register/8016261513308617997
URL:https://digifed.org/event/fed4sae-innovation-day/
LOCATION:Online
CATEGORIES:Partner event
END:VEVENT
END:VCALENDAR