BEGIN:VCALENDAR
VERSION:2.0
PRODID:-//DIGIFED - ECPv5.3.2.1//NONSGML v1.0//EN
CALSCALE:GREGORIAN
METHOD:PUBLISH
X-WR-CALNAME:DIGIFED
X-ORIGINAL-URL:https://digifed.org
X-WR-CALDESC:Events for DIGIFED
BEGIN:VTIMEZONE
TZID:UTC
BEGIN:STANDARD
TZOFFSETFROM:+0000
TZOFFSETTO:+0000
TZNAME:UTC
DTSTART:20220101T000000
END:STANDARD
END:VTIMEZONE
BEGIN:VEVENT
DTSTART;TZID=UTC:20220519T093000
DTEND;TZID=UTC:20220519T123000
DTSTAMP:20260423T112016
CREATED:20220429T050534Z
LAST-MODIFIED:20220429T050650Z
UID:2665-1652952600-1652963400@digifed.org
SUMMARY:Introduction to Regional and European DIH Ecosystem Collaboration
DESCRIPTION:This event will feature Baden-Württemberg’s regional Digital Innovation Hubs (DIH) landscape\, \n\n\n\npractices and success stories\, next to other European regional DIH networks and their experiences.     \n\n\n\nThis event will be a learning experience for all those interested in how regional DIH ecosystems function\, what services they can offer and how collaboration between different European regions can best be established.     \n\n\n\nParticipants will map and compare regional approaches to DIH support in an interactive session. Furthermore\, value added is provided by experiences and advice from European level (DIHNET.EU project) on how to foster EU-national regional DIH collaboration.    
URL:https://digifed.org/event/introduction-to-regional-and-european-dih-ecosystem-collaboration/
CATEGORIES:DigiFed event
END:VEVENT
END:VCALENDAR