BEGIN:VCALENDAR
VERSION:2.0
PRODID:-//DIGIFED - ECPv5.3.2.1//NONSGML v1.0//EN
CALSCALE:GREGORIAN
METHOD:PUBLISH
X-WR-CALNAME:DIGIFED
X-ORIGINAL-URL:https://digifed.org
X-WR-CALDESC:Events for DIGIFED
BEGIN:VTIMEZONE
TZID:UTC
BEGIN:STANDARD
TZOFFSETFROM:+0000
TZOFFSETTO:+0000
TZNAME:UTC
DTSTART:20220101T000000
END:STANDARD
END:VTIMEZONE
BEGIN:VEVENT
DTSTART;TZID=UTC:20220426T080000
DTEND;TZID=UTC:20220428T170000
DTSTAMP:20260422T101447
CREATED:20211122T104135Z
LAST-MODIFIED:20211122T104136Z
UID:2493-1650960000-1651165200@digifed.org
SUMMARY:Smart Systems Integration Conference and Exhibition
DESCRIPTION:Leti is proud to host SSI 2021 in Grenoble \n\n\n\nCall for paper Abstracts from industry January 6\, 2022
URL:https://digifed.org/event/smart-systems-integration-conference-and-exhibition/
CATEGORIES:Partner event
END:VEVENT
END:VCALENDAR