BEGIN:VCALENDAR
VERSION:2.0
PRODID:-//DIGIFED - ECPv5.3.2.1//NONSGML v1.0//EN
CALSCALE:GREGORIAN
METHOD:PUBLISH
X-WR-CALNAME:DIGIFED
X-ORIGINAL-URL:https://digifed.org
X-WR-CALDESC:Events for DIGIFED
BEGIN:VTIMEZONE
TZID:UTC
BEGIN:STANDARD
TZOFFSETFROM:+0000
TZOFFSETTO:+0000
TZNAME:UTC
DTSTART:20200101T000000
END:STANDARD
END:VTIMEZONE
BEGIN:VEVENT
DTSTART;TZID=UTC:20200227T000000
DTEND;TZID=UTC:20200227T235959
DTSTAMP:20260422T085318
CREATED:20200312T145435Z
LAST-MODIFIED:20210521T141233Z
UID:473-1582761600-1582847999@digifed.org
SUMMARY:Techinov
DESCRIPTION:
URL:https://digifed.org/event/techinov/
CATEGORIES:All,Partner event
END:VEVENT
END:VCALENDAR